BEGIN:VCALENDAR
VERSION:2.0
PRODID:-//Vrije Baptisten Gemeente Graafstroom - ECPv6.15.20//NONSGML v1.0//EN
CALSCALE:GREGORIAN
METHOD:PUBLISH
X-ORIGINAL-URL:https://baptistengraafstroom.nl
X-WR-CALDESC:Evenementen voor Vrije Baptisten Gemeente Graafstroom
REFRESH-INTERVAL;VALUE=DURATION:PT1H
X-Robots-Tag:noindex
X-PUBLISHED-TTL:PT1H
BEGIN:VTIMEZONE
TZID:Europe/Amsterdam
BEGIN:DAYLIGHT
TZOFFSETFROM:+0100
TZOFFSETTO:+0200
TZNAME:CEST
DTSTART:20230326T010000
END:DAYLIGHT
BEGIN:STANDARD
TZOFFSETFROM:+0200
TZOFFSETTO:+0100
TZNAME:CET
DTSTART:20231029T010000
END:STANDARD
BEGIN:DAYLIGHT
TZOFFSETFROM:+0100
TZOFFSETTO:+0200
TZNAME:CEST
DTSTART:20240331T010000
END:DAYLIGHT
BEGIN:STANDARD
TZOFFSETFROM:+0200
TZOFFSETTO:+0100
TZNAME:CET
DTSTART:20241027T010000
END:STANDARD
BEGIN:DAYLIGHT
TZOFFSETFROM:+0100
TZOFFSETTO:+0200
TZNAME:CEST
DTSTART:20250330T010000
END:DAYLIGHT
BEGIN:STANDARD
TZOFFSETFROM:+0200
TZOFFSETTO:+0100
TZNAME:CET
DTSTART:20251026T010000
END:STANDARD
END:VTIMEZONE
BEGIN:VTIMEZONE
TZID:Europe/Paris
BEGIN:DAYLIGHT
TZOFFSETFROM:+0100
TZOFFSETTO:+0200
TZNAME:CEST
DTSTART:20230326T010000
END:DAYLIGHT
BEGIN:STANDARD
TZOFFSETFROM:+0200
TZOFFSETTO:+0100
TZNAME:CET
DTSTART:20231029T010000
END:STANDARD
BEGIN:DAYLIGHT
TZOFFSETFROM:+0100
TZOFFSETTO:+0200
TZNAME:CEST
DTSTART:20240331T010000
END:DAYLIGHT
BEGIN:STANDARD
TZOFFSETFROM:+0200
TZOFFSETTO:+0100
TZNAME:CET
DTSTART:20241027T010000
END:STANDARD
BEGIN:DAYLIGHT
TZOFFSETFROM:+0100
TZOFFSETTO:+0200
TZNAME:CEST
DTSTART:20250330T010000
END:DAYLIGHT
BEGIN:STANDARD
TZOFFSETFROM:+0200
TZOFFSETTO:+0100
TZNAME:CET
DTSTART:20251026T010000
END:STANDARD
END:VTIMEZONE
BEGIN:VEVENT
DTSTART;TZID=Europe/Amsterdam:20240303T180000
DTEND;TZID=Europe/Amsterdam:20240303T203000
DTSTAMP:20260422T140152
CREATED:20221107T104921Z
LAST-MODIFIED:20240116T113228Z
UID:2345-1709488800-1709497800@baptistengraafstroom.nl
SUMMARY:Alpha Youth
DESCRIPTION:Alpha Youth is voor onze jongeren van ongeveer 12-20 jaar. Tijdens deze toffe avonden ga je met andere jongeren op zoek naar antwoorden. Om 18.15 uur eten we eerst gezellig samen. Daarna luister je naar een kort\, inspirerend verhaal en praat je daar met z’n allen over door. Geen vraag is te gek om te stellen. We sluiten de avond af rond 20.30 uur. Houdt de app in de gaten voor de details! \nAls het leuk lijkt om aan te sluiten of om eens een avond te komen kijken\, neem dan even contact op met de Aplha Youth leiding: \nErika Tukker06-25306198tieners@baptistengraafstroom.nl
URL:https://baptistengraafstroom.nl/index.php/event/alpha-youth-2/
LOCATION:Thuis
ATTACH;FMTTYPE=image/jpeg:https://baptistengraafstroom.nl/wp-content/uploads/2022/11/AplhaYouth-e1672348588263.jpg
END:VEVENT
BEGIN:VEVENT
DTSTART;TZID=Europe/Amsterdam:20240306T200000
DTEND;TZID=Europe/Amsterdam:20240306T220000
DTSTAMP:20260422T140152
CREATED:20221229T202633Z
LAST-MODIFIED:20240116T122229Z
UID:2709-1709755200-1709762400@baptistengraafstroom.nl
SUMMARY:Huiskring
DESCRIPTION:Op woensdag is er om de andere week de mogelijkheid om deel te nemen aan de huiskringen. De gemeente is verdeeld in een aantal vaste groepen van ongeveer 15 mensen. Elke groep komt bij iemand thuis in de huiskamer om elkaar beter te leren kennen\, een onderwerp of stukje uit de bijbel te bespreken en meer betrokken te zijn met elkaars dagelijkse bezigheden. \nWe hopen elkaar te ontmoeten!
URL:https://baptistengraafstroom.nl/index.php/event/huiskring-12/
LOCATION:Thuis
CATEGORIES:Huiskringen
ATTACH;FMTTYPE=image/jpeg:https://baptistengraafstroom.nl/wp-content/uploads/2022/09/Huiskring.jpg
END:VEVENT
BEGIN:VEVENT
DTSTART;TZID=Europe/Amsterdam:20240310T193000
DTEND;TZID=Europe/Amsterdam:20240310T203000
DTSTAMP:20260422T140152
CREATED:20230223T101349Z
LAST-MODIFIED:20240116T135527Z
UID:2937-1710099000-1710102600@baptistengraafstroom.nl
SUMMARY:Gebedsuur
DESCRIPTION:Welkom tijdens het gebedsuur! We bidden samen voor actualiteiten binnen en buiten onze eigen gemeente. Neem ook zeker persoonlijke gebedspunten mee.We hopen elkaar te ontmoeten.
URL:https://baptistengraafstroom.nl/index.php/event/gebedsuur-4/
LOCATION:‘De Bovenzaal’\, Van Beukelaarweg 33\, Bleskensgraaf\, 2971 VL
ATTACH;FMTTYPE=image/jpeg:https://baptistengraafstroom.nl/wp-content/uploads/2022/09/Gebedsuur-1.jpg
END:VEVENT
BEGIN:VEVENT
DTSTART;TZID=Europe/Amsterdam:20240313T200000
DTEND;TZID=Europe/Amsterdam:20240313T213000
DTSTAMP:20260422T140152
CREATED:20230223T100555Z
LAST-MODIFIED:20240229T124428Z
UID:2931-1710360000-1710365400@baptistengraafstroom.nl
SUMMARY:Gemeenteavond
DESCRIPTION:Alle gemeenteleden zijn van harte uitgenodigd op deze gemeente avond waar we verschillende agendapunten zullen behandelen. Waaronder actualiteiten binnen de gemeente\, zending & evangelisatie en financiën. De uitnodiging hiervoor met de relevante bijlagen ontvangt u nog via de mail.
URL:https://baptistengraafstroom.nl/index.php/event/gemeenteavond-4/
LOCATION:‘De Bovenzaal’\, Van Beukelaarweg 33\, Bleskensgraaf\, 2971 VL
ATTACH;FMTTYPE=image/jpeg:https://baptistengraafstroom.nl/wp-content/uploads/2022/09/Gemeenteavond.jpg
END:VEVENT
BEGIN:VEVENT
DTSTART;TZID=Europe/Amsterdam:20240317T180000
DTEND;TZID=Europe/Amsterdam:20240317T203000
DTSTAMP:20260422T140152
CREATED:20221229T210513Z
LAST-MODIFIED:20240116T140403Z
UID:2735-1710698400-1710707400@baptistengraafstroom.nl
SUMMARY:Alpha Youth
DESCRIPTION:Alpha Youth is voor onze jongeren van ongeveer 12-20 jaar. Tijdens deze toffe avonden ga je met andere jongeren op zoek naar antwoorden. Om 18.15 uur eten we eerst gezellig samen. Daarna luister je naar een kort\, inspirerend verhaal en praat je daar met z’n allen over door. Geen vraag is te gek om te stellen. We sluiten de avond af rond 20.30 uur. Houdt de app in de gaten voor de details! \nAls het leuk lijkt om aan te sluiten of om eens een avond te komen kijken\, neem dan even contact op met de Aplha Youth leiding: \nErika Tukker06-25306198tieners@baptistengraafstroom.nl
URL:https://baptistengraafstroom.nl/index.php/event/tieners-12-16-3/
LOCATION:‘De Bovenzaal’\, Van Beukelaarweg 33\, Bleskensgraaf\, 2971 VL
ATTACH;FMTTYPE=image/jpeg:https://baptistengraafstroom.nl/wp-content/uploads/2022/11/AplhaYouth-e1672348588263.jpg
END:VEVENT
BEGIN:VEVENT
DTSTART;TZID=Europe/Amsterdam:20240319T193000
DTEND;TZID=Europe/Amsterdam:20240319T203000
DTSTAMP:20260422T140152
CREATED:20221215T144519Z
LAST-MODIFIED:20240305T151245Z
UID:2608-1710876600-1710880200@baptistengraafstroom.nl
SUMMARY:Doopbespreking
DESCRIPTION:Wil je gedoopt worden!? Zondag 7 april 2024 hebben we weer een doopdienst! Aanmelden kan bij de oudsten van de gemeente. Ben je nog niet zeker of wil je eerst meer weten? Kom vrijblijvend naar de doopbespreking\, dinsdag 19 maart om 19.30 in ‘De Bovenzaal’ (Van Beukelaarweg 33).
URL:https://baptistengraafstroom.nl/index.php/event/samenkomst-38/
LOCATION:‘De Bovenzaal’\, Van Beukelaarweg 33\, Bleskensgraaf\, 2971 VL
ATTACH;FMTTYPE=image/png:https://baptistengraafstroom.nl/wp-content/uploads/2022/12/Doop2.png
END:VEVENT
BEGIN:VEVENT
DTSTART;TZID=Europe/Amsterdam:20240320T200000
DTEND;TZID=Europe/Amsterdam:20240320T220000
DTSTAMP:20260422T140152
CREATED:20221229T202738Z
LAST-MODIFIED:20240116T140552Z
UID:2711-1710964800-1710972000@baptistengraafstroom.nl
SUMMARY:Huiskring
DESCRIPTION:Op woensdag is er om de andere week de mogelijkheid om deel te nemen aan de huiskringen. De gemeente is verdeeld in een aantal vaste groepen van ongeveer 15 mensen. Elke groep komt bij iemand thuis in de huiskamer om elkaar beter te leren kennen\, een onderwerp of stukje uit de bijbel te bespreken en meer betrokken te zijn met elkaars dagelijkse bezigheden. \nWe hopen elkaar te ontmoeten!
URL:https://baptistengraafstroom.nl/index.php/event/huiskring-13/
LOCATION:Thuis
ATTACH;FMTTYPE=image/jpeg:https://baptistengraafstroom.nl/wp-content/uploads/2022/09/Huiskring.jpg
END:VEVENT
BEGIN:VEVENT
DTSTART;TZID=Europe/Amsterdam:20240324T180000
DTEND;TZID=Europe/Amsterdam:20240324T203000
DTSTAMP:20260422T140152
CREATED:20240116T141321Z
LAST-MODIFIED:20240116T141326Z
UID:3770-1711303200-1711312200@baptistengraafstroom.nl
SUMMARY:Alpha goes Limitless!
DESCRIPTION:Alpha goes Limitless! \n\n\n\nVanavond gaan we met elkaar weer naar Limitless!Rond 18.15 uur eten we met elkaar waarna we samen richting Alblasserdam vertrekken.Geef je op via de app of onderstaande.. \n\n\n\nErika Tukker06-25306198tieners@baptistengraafstroom.nl
URL:https://baptistengraafstroom.nl/index.php/event/alpha-goes-limitless/
LOCATION:Limitless\, Amperestraat 4\, Alblasserdam\, 2952AA
ATTACH;FMTTYPE=image/png:https://baptistengraafstroom.nl/wp-content/uploads/2022/12/Limitless.png
END:VEVENT
BEGIN:VEVENT
DTSTART;TZID=Europe/Amsterdam:20240324T193000
DTEND;TZID=Europe/Amsterdam:20240324T203000
DTSTAMP:20260422T140152
CREATED:20230107T092536Z
LAST-MODIFIED:20240116T141106Z
UID:2758-1711308600-1711312200@baptistengraafstroom.nl
SUMMARY:Gebedsuur (Zending & Evangelisatie)
DESCRIPTION:Welkom tijdens het gebedsuur! We bidden samen voor de zending & evangelisatie. We hopen elkaar te ontmoeten.
URL:https://baptistengraafstroom.nl/index.php/event/gebedsuur-2/
LOCATION:‘De Bovenzaal’\, Van Beukelaarweg 33\, Bleskensgraaf\, 2971 VL
ATTACH;FMTTYPE=image/jpeg:https://baptistengraafstroom.nl/wp-content/uploads/2022/09/Gebedsuur-1.jpg
END:VEVENT
BEGIN:VEVENT
DTSTART;TZID=Europe/Amsterdam:20240329T190000
DTEND;TZID=Europe/Amsterdam:20240329T200000
DTSTAMP:20260422T140152
CREATED:20221215T114421Z
LAST-MODIFIED:20240116T141517Z
UID:2554-1711738800-1711742400@baptistengraafstroom.nl
SUMMARY:Goede vrijdag - Samenkomst
DESCRIPTION:Spreker: Nog niet bekend\n\n\n\nVan harte welkom tijdens deze dienst waarin we stilstaan bij het lijden en sterven van onze heer Jezus Christus. Ook vieren we graag vandaag samen het avondmaal. \n\n\n\nWe komen samen in ons eigen gebouw.Het adres is:Van Beukelaarweg 332971 VL Bleskensgraaf \n\n\n\nLet hierbij op de doordeweekse parkeerinstructies.Klik hier om deze te bekijken.
URL:https://baptistengraafstroom.nl/index.php/event/samenkomst-21/
LOCATION:‘De Bovenzaal’\, Van Beukelaarweg 33\, Bleskensgraaf\, 2971 VL
ATTACH;FMTTYPE=image/jpeg:https://baptistengraafstroom.nl/wp-content/uploads/2022/09/Samenkomst.jpg
END:VEVENT
BEGIN:VEVENT
DTSTART;TZID=Europe/Amsterdam:20240403T200000
DTEND;TZID=Europe/Amsterdam:20240403T220000
DTSTAMP:20260422T140152
CREATED:20221030T103446Z
LAST-MODIFIED:20240116T142445Z
UID:2179-1712174400-1712181600@baptistengraafstroom.nl
SUMMARY:Huiskring
DESCRIPTION:Op woensdag is er om de andere week de mogelijkheid om deel te nemen aan de huiskringen. De gemeente is verdeeld in een aantal vaste groepen van ongeveer 15 mensen. Elke groep komt bij iemand thuis in de huiskamer om elkaar beter te leren kennen\, een onderwerp of stukje uit de bijbel te bespreken en meer betrokken te zijn met elkaars dagelijkse bezigheden.We hopen elkaar te ontmoeten!
URL:https://baptistengraafstroom.nl/index.php/event/huiskring/
LOCATION:Thuis
ATTACH;FMTTYPE=image/jpeg:https://baptistengraafstroom.nl/wp-content/uploads/2022/09/Huiskring.jpg
END:VEVENT
BEGIN:VEVENT
DTSTART;TZID=Europe/Amsterdam:20240405T083000
DTEND;TZID=Europe/Amsterdam:20240405T100000
DTSTAMP:20260422T140152
CREATED:20221030T132252Z
LAST-MODIFIED:20240116T141841Z
UID:2195-1712305800-1712311200@baptistengraafstroom.nl
SUMMARY:Vrouwenontbijt
DESCRIPTION:Elkaar ontmoeten en de onderlinge (geloofs)band versterken\, dat is wat we doen tijdens het vrouwenontbijt. Ook genieten we natuurlijk met elkaar van een lekker broodje en een kop koffie of thee. \nMeld je ook aan via Petra van Zessen.
URL:https://baptistengraafstroom.nl/index.php/event/vrouwenontbijt-2/
LOCATION:‘De Bovenzaal’\, Van Beukelaarweg 33\, Bleskensgraaf\, 2971 VL
ATTACH;FMTTYPE=image/jpeg:https://baptistengraafstroom.nl/wp-content/uploads/2022/09/Vrouwenontbijt.jpg
END:VEVENT
BEGIN:VEVENT
DTSTART;TZID=Europe/Amsterdam:20240406T083000
DTEND;TZID=Europe/Amsterdam:20240406T100000
DTSTAMP:20260422T140152
CREATED:20221030T132045Z
LAST-MODIFIED:20240116T142302Z
UID:2193-1712392200-1712397600@baptistengraafstroom.nl
SUMMARY:Mannenontbijt
DESCRIPTION:Elkaar ontmoeten en de onderlinge (geloofs)band versterken\, dat is wat we doen tijdens het mannenontbijt. Ook genieten we natuurlijk met elkaar van een lekker broodje en een kop koffie of thee. \nMeld je ook aan via Martin van Zessen of Sjoerd Wiersma.
URL:https://baptistengraafstroom.nl/index.php/event/mannenontbijt-2/
LOCATION:‘De Bovenzaal’\, Van Beukelaarweg 33\, Bleskensgraaf\, 2971 VL
ATTACH;FMTTYPE=image/jpeg:https://baptistengraafstroom.nl/wp-content/uploads/2022/09/Mannenontbijt.jpg
END:VEVENT
BEGIN:VEVENT
DTSTART;TZID=Europe/Amsterdam:20240407T193000
DTEND;TZID=Europe/Amsterdam:20240407T203000
DTSTAMP:20260422T140152
CREATED:20230223T101049Z
LAST-MODIFIED:20240116T142619Z
UID:2933-1712518200-1712521800@baptistengraafstroom.nl
SUMMARY:Gebedsuur
DESCRIPTION:Welkom tijdens het gebedsuur! We bidden samen voor actualiteiten binnen en buiten onze eigen gemeente. Neem ook zeker persoonlijke gebedspunten mee.We hopen elkaar te ontmoeten.
URL:https://baptistengraafstroom.nl/index.php/event/gebedsuur-3/
LOCATION:‘De Bovenzaal’\, Van Beukelaarweg 33\, Bleskensgraaf\, 2971 VL
ATTACH;FMTTYPE=image/jpeg:https://baptistengraafstroom.nl/wp-content/uploads/2022/09/Gebedsuur-1.jpg
END:VEVENT
BEGIN:VEVENT
DTSTART;TZID=Europe/Amsterdam:20240417T200000
DTEND;TZID=Europe/Amsterdam:20240417T220000
DTSTAMP:20260422T140152
CREATED:20221030T130458Z
LAST-MODIFIED:20240116T142846Z
UID:2184-1713384000-1713391200@baptistengraafstroom.nl
SUMMARY:Huiskring
DESCRIPTION:Op woensdag is er om de andere week de mogelijkheid om deel te nemen aan de huiskringen. De gemeente is verdeeld in een aantal vaste groepen van ongeveer 15 mensen. Elke groep komt bij iemand thuis in de huiskamer om elkaar beter te leren kennen\, een onderwerp of stukje uit de bijbel te bespreken en meer betrokken te zijn met elkaars dagelijkse bezigheden. \nWe hopen elkaar te ontmoeten!
URL:https://baptistengraafstroom.nl/index.php/event/huiskring-3/
LOCATION:Thuis
CATEGORIES:Huiskringen
ATTACH;FMTTYPE=image/jpeg:https://baptistengraafstroom.nl/wp-content/uploads/2022/09/Huiskring.jpg
END:VEVENT
BEGIN:VEVENT
DTSTART;TZID=Europe/Amsterdam:20240421T193000
DTEND;TZID=Europe/Amsterdam:20240421T203000
DTSTAMP:20260422T140152
CREATED:20230223T101209Z
LAST-MODIFIED:20240116T143142Z
UID:2935-1713727800-1713731400@baptistengraafstroom.nl
SUMMARY:Gebedsuur (Zending & Evangelisatie)
DESCRIPTION:Welkom tijdens het gebedsuur! We bidden samen voor de zending & evangelisatie. We hopen elkaar te ontmoeten.
URL:https://baptistengraafstroom.nl/index.php/event/gebedsuur-zending-evangelisatie/
LOCATION:‘De Bovenzaal’\, Van Beukelaarweg 33\, Bleskensgraaf\, 2971 VL
ATTACH;FMTTYPE=image/jpeg:https://baptistengraafstroom.nl/wp-content/uploads/2022/09/Gebedsuur-1.jpg
END:VEVENT
BEGIN:VEVENT
DTSTART;TZID=Europe/Amsterdam:20240501T183000
DTEND;TZID=Europe/Amsterdam:20240501T200000
DTSTAMP:20260422T140152
CREATED:20240116T144800Z
LAST-MODIFIED:20240409T212137Z
UID:3781-1714588200-1714593600@baptistengraafstroom.nl
SUMMARY:Musical: Blauw Bloed
DESCRIPTION:Op 1 mei is om 18.30 uur de première van de gloednieuwe musical Blauw Bloed van Amazing. De koninklijke musical Blauw bloed speelt zich af in een gevaarlijke wijk met een actieve bende die de buurt onveilig maakt. De koning\, de prins en de heraut nemen je mee in een zoektocht naar de verdwenen prins. Na een verrassende wending in het verhaal eindigen we in het paleis voor een nieuwe start. Met vallen en opstaan worden de koninklijke manieren geoefend.Trek je mooiste kleren aan en zet je kroon maar op\, want jij bent een koningskind! Iedereen is welkom: boeren\, burgers en buitenlui!
URL:https://baptistengraafstroom.nl/index.php/event/musical-blauw-bloed/
LOCATION:‘De Bovenzaal’\, Van Beukelaarweg 33\, Bleskensgraaf\, 2971 VL
ATTACH;FMTTYPE=image/png:https://baptistengraafstroom.nl/wp-content/uploads/2024/01/Amazing.png
END:VEVENT
BEGIN:VEVENT
DTSTART;TZID=Europe/Amsterdam:20240505T193000
DTEND;TZID=Europe/Amsterdam:20240505T203000
DTSTAMP:20260422T140152
CREATED:20240116T145534Z
LAST-MODIFIED:20240116T145538Z
UID:3787-1714937400-1714941000@baptistengraafstroom.nl
SUMMARY:Gebedsuur
DESCRIPTION:Welkom tijdens het gebedsuur! We bidden samen voor actualiteiten binnen en buiten onze eigen gemeente. Neem ook zeker persoonlijke gebedspunten mee.We hopen elkaar te ontmoeten.
URL:https://baptistengraafstroom.nl/index.php/event/gebedsuur-7/
LOCATION:‘De Bovenzaal’\, Van Beukelaarweg 33\, Bleskensgraaf\, 2971 VL
ATTACH;FMTTYPE=image/jpeg:https://baptistengraafstroom.nl/wp-content/uploads/2022/09/Gebedsuur-1.jpg
END:VEVENT
BEGIN:VEVENT
DTSTART;TZID=Europe/Amsterdam:20240515T200000
DTEND;TZID=Europe/Amsterdam:20240515T220000
DTSTAMP:20260422T140152
CREATED:20221030T125924Z
LAST-MODIFIED:20240116T145044Z
UID:2182-1715803200-1715810400@baptistengraafstroom.nl
SUMMARY:Huiskring
DESCRIPTION:Op woensdag is er om de andere week de mogelijkheid om deel te nemen aan de huiskringen. De gemeente is verdeeld in een aantal vaste groepen van ongeveer 15 mensen. Elke groep komt bij iemand thuis in de huiskamer om elkaar beter te leren kennen\, een onderwerp of stukje uit de bijbel te bespreken en meer betrokken te zijn met elkaars dagelijkse bezigheden. \nWe hopen elkaar te ontmoeten!
URL:https://baptistengraafstroom.nl/index.php/event/huiskring-2/
LOCATION:Thuis
ATTACH;FMTTYPE=image/jpeg:https://baptistengraafstroom.nl/wp-content/uploads/2022/09/Huiskring.jpg
END:VEVENT
BEGIN:VEVENT
DTSTART;TZID=Europe/Amsterdam:20240519T100000
DTEND;TZID=Europe/Amsterdam:20240519T113000
DTSTAMP:20260422T140152
CREATED:20221215T115135Z
LAST-MODIFIED:20240116T151923Z
UID:2560-1716112800-1716118200@baptistengraafstroom.nl
SUMMARY:Samenkomst - Pinksteren
DESCRIPTION:GetuigenissendienstBijzonderheden: De Brug in de dienst\n\n\n\nElke zondagmorgen is er een samenkomst voor de hele gemeente voor jong en oud. Daarin lezen we uit de Bijbel\, er is ruimte voor onderwijs en we zingen en bidden samen. We zingen vaak een kinderlied voordat de kinderen naar hun eigen kindernevendienst kunnen gaan. De samenkomst wordt afgerond met een bakje koffie of thee en ruimte voor ontmoeting.  \n\n\n\nWe komen samen in ons eigen gebouw.Het adres is:Van Beukelaarweg 332971 VL Bleskensgraaf \n\n\n\nDe dienst begint om 10.00 uur. Meestal eindigen we deze rond 11.30 uur. We beginnen de dienst met elkaar\, inclusief de kinderen. Daarna is er van groep 1 tot en met 7 zondagsschool. Voor de jongste kinderen (tot 4 jaar) is er crèche aanwezig.
URL:https://baptistengraafstroom.nl/index.php/event/samenkomst-24/
LOCATION:‘De Bovenzaal’\, Van Beukelaarweg 33\, Bleskensgraaf\, 2971 VL
CATEGORIES:Diensten
ATTACH;FMTTYPE=image/png:https://baptistengraafstroom.nl/wp-content/uploads/2022/12/Getuigenissen.png
END:VEVENT
BEGIN:VEVENT
DTSTART;TZID=Europe/Amsterdam:20240526T180000
DTEND;TZID=Europe/Amsterdam:20240526T203000
DTSTAMP:20260422T140152
CREATED:20240116T152117Z
LAST-MODIFIED:20240116T152121Z
UID:3807-1716746400-1716755400@baptistengraafstroom.nl
SUMMARY:Alpha goes Limitless!
DESCRIPTION:Alpha goes Limitless! \n\n\n\nVanavond gaan we met elkaar weer naar Limitless!Rond 18.15 uur eten we met elkaar waarna we samen richting Alblasserdam vertrekken.Geef je op via de app of onderstaande.. \n\n\n\nErika Tukker06-25306198tieners@baptistengraafstroom.nl
URL:https://baptistengraafstroom.nl/index.php/event/alpha-goes-limitless-2/
LOCATION:Limitless\, Amperestraat 4\, Alblasserdam\, 2952AA
ATTACH;FMTTYPE=image/png:https://baptistengraafstroom.nl/wp-content/uploads/2022/12/Limitless.png
END:VEVENT
BEGIN:VEVENT
DTSTART;TZID=Europe/Amsterdam:20240526T193000
DTEND;TZID=Europe/Amsterdam:20240526T203000
DTSTAMP:20260422T140152
CREATED:20240116T145759Z
LAST-MODIFIED:20240116T145803Z
UID:3789-1716751800-1716755400@baptistengraafstroom.nl
SUMMARY:Gebedsuur (Zending & Evangelisatie)
DESCRIPTION:Welkom tijdens het gebedsuur! We bidden samen voor de zending & evangelisatie. We hopen elkaar te ontmoeten.
URL:https://baptistengraafstroom.nl/index.php/event/gebedsuur-zending-evangelisatie-4/
LOCATION:‘De Bovenzaal’\, Van Beukelaarweg 33\, Bleskensgraaf\, 2971 VL
ATTACH;FMTTYPE=image/jpeg:https://baptistengraafstroom.nl/wp-content/uploads/2022/09/Gebedsuur-1.jpg
END:VEVENT
BEGIN:VEVENT
DTSTART;TZID=Europe/Amsterdam:20240601T083000
DTEND;TZID=Europe/Amsterdam:20240601T100000
DTSTAMP:20260422T140152
CREATED:20240116T150321Z
LAST-MODIFIED:20240116T150325Z
UID:3795-1717230600-1717236000@baptistengraafstroom.nl
SUMMARY:Vrouwenontbijt
DESCRIPTION:Elkaar ontmoeten en de onderlinge (geloofs)band versterken\, dat is wat we doen tijdens het vrouwenontbijt. Ook genieten we natuurlijk met elkaar van een lekker broodje en een kop koffie of thee. \n\n\n\nMeld je ook aan via Petra van Zessen.
URL:https://baptistengraafstroom.nl/index.php/event/vrouwenontbijt-7/
LOCATION:‘De Bovenzaal’\, Van Beukelaarweg 33\, Bleskensgraaf\, 2971 VL
ATTACH;FMTTYPE=image/jpeg:https://baptistengraafstroom.nl/wp-content/uploads/2022/09/Vrouwenontbijt.jpg
END:VEVENT
BEGIN:VEVENT
DTSTART;TZID=Europe/Amsterdam:20240608T083000
DTEND;TZID=Europe/Amsterdam:20240608T100000
DTSTAMP:20260422T140152
CREATED:20240116T150509Z
LAST-MODIFIED:20240116T150540Z
UID:3797-1717835400-1717840800@baptistengraafstroom.nl
SUMMARY:Mannenontbijt
DESCRIPTION:Elkaar ontmoeten en de onderlinge (geloofs)band versterken\, dat is wat we doen tijdens het mannenontbijt. Ook genieten we natuurlijk met elkaar van een lekker broodje en een kop koffie of thee. \n\n\n\nMeld je ook aan via Sjoerd Wiersma of Martin van Zessen.
URL:https://baptistengraafstroom.nl/index.php/event/mannenontbijt-6/
LOCATION:‘De Bovenzaal’\, Van Beukelaarweg 33\, Bleskensgraaf\, 2971 VL
ATTACH;FMTTYPE=image/jpeg:https://baptistengraafstroom.nl/wp-content/uploads/2022/09/Mannenontbijt.jpg
END:VEVENT
BEGIN:VEVENT
DTSTART;TZID=Europe/Amsterdam:20240609T193000
DTEND;TZID=Europe/Amsterdam:20240609T203000
DTSTAMP:20260422T140152
CREATED:20240116T150126Z
LAST-MODIFIED:20240116T150131Z
UID:3793-1717961400-1717965000@baptistengraafstroom.nl
SUMMARY:Gebedsuur
DESCRIPTION:Welkom tijdens het gebedsuur! We bidden samen voor actualiteiten binnen en buiten onze eigen gemeente. Neem ook zeker persoonlijke gebedspunten mee.We hopen elkaar te ontmoeten.
URL:https://baptistengraafstroom.nl/index.php/event/gebedsuur-8/
LOCATION:‘De Bovenzaal’\, Van Beukelaarweg 33\, Bleskensgraaf\, 2971 VL
ATTACH;FMTTYPE=image/jpeg:https://baptistengraafstroom.nl/wp-content/uploads/2022/09/Gebedsuur-1.jpg
END:VEVENT
BEGIN:VEVENT
DTSTART;TZID=Europe/Amsterdam:20240623T193000
DTEND;TZID=Europe/Amsterdam:20240623T203000
DTSTAMP:20260422T140152
CREATED:20240116T145940Z
LAST-MODIFIED:20240116T145944Z
UID:3791-1719171000-1719174600@baptistengraafstroom.nl
SUMMARY:Gebedsuur (Zending & Evangelisatie)
DESCRIPTION:Welkom tijdens het gebedsuur! We bidden samen voor de zending & evangelisatie. We hopen elkaar te ontmoeten.
URL:https://baptistengraafstroom.nl/index.php/event/gebedsuur-zending-evangelisatie-5/
LOCATION:‘De Bovenzaal’\, Van Beukelaarweg 33\, Bleskensgraaf\, 2971 VL
ATTACH;FMTTYPE=image/jpeg:https://baptistengraafstroom.nl/wp-content/uploads/2022/09/Gebedsuur-1.jpg
END:VEVENT
BEGIN:VEVENT
DTSTART;TZID=Europe/Amsterdam:20240628T080000
DTEND;TZID=Europe/Amsterdam:20240630T170000
DTSTAMP:20260422T140152
CREATED:20221106T060134Z
LAST-MODIFIED:20240116T145237Z
UID:2297-1719561600-1719766800@baptistengraafstroom.nl
SUMMARY:Gemeenteweekend 2024
DESCRIPTION:Het is weer zover\, het Gemeentweekend 2024 komt eraan!\nWe mogen weer met elkaar naar ‘Het Beloofde Land’ in Voorthuizen. Ons jaarlijkse gemeenteweekend met veel ruimte voor ontmoeting en ontspanning! \nIedereen is van harte welkom met camper\, caravan of tent\, maar ook als je dat niet hebt of niet wilt\, kun je mee. Er zijn ook mogelijkheden voor slapen in een chalet met eigen keuken/douche/toilet\, zolang de voorraad strekt. \nBelangstelling om mee te gaan? Laat ons dit dan zo snel mogelijk weten (vries.de.esther@gmail.com)\, zodat we de reservering kunnen afronden en kunnen zorgen voor zoveel mogelijk plaatsen bij elkaar. \nKlik hier om het aanmeldingsformulier te downloaden
URL:https://baptistengraafstroom.nl/index.php/event/gemeenteweekend/
LOCATION:Het Beloofde Land\, Bosweg 17\, Voorthuizen\, 3781 NG
ATTACH;FMTTYPE=image/jpeg:https://baptistengraafstroom.nl/wp-content/uploads/2022/11/Gemeenteweeked-e1671106287581.jpg
END:VEVENT
BEGIN:VEVENT
DTSTART;TZID=Europe/Amsterdam:20240707T193000
DTEND;TZID=Europe/Amsterdam:20240707T203000
DTSTAMP:20260422T140152
CREATED:20240116T153651Z
LAST-MODIFIED:20240116T153657Z
UID:3822-1720380600-1720384200@baptistengraafstroom.nl
SUMMARY:Gebedsuur
DESCRIPTION:Welkom tijdens het gebedsuur! We bidden samen voor actualiteiten binnen en buiten onze eigen gemeente. Neem ook zeker persoonlijke gebedspunten mee.We hopen elkaar te ontmoeten.
URL:https://baptistengraafstroom.nl/index.php/event/gebedsuur-9/
LOCATION:‘De Bovenzaal’\, Van Beukelaarweg 33\, Bleskensgraaf\, 2971 VL
ATTACH;FMTTYPE=image/jpeg:https://baptistengraafstroom.nl/wp-content/uploads/2022/09/Gebedsuur-1.jpg
END:VEVENT
BEGIN:VEVENT
DTSTART;TZID=Europe/Amsterdam:20240901T110000
DTEND;TZID=Europe/Amsterdam:20240901T130000
DTSTAMP:20260422T140152
CREATED:20221215T144736Z
LAST-MODIFIED:20240823T194435Z
UID:2610-1725188400-1725195600@baptistengraafstroom.nl
SUMMARY:Startzondag - Openluchtdienst
DESCRIPTION:Spreker: –\n\n\n\nBijzonderheden: Openluchtdienst en AvondmaalvieringLet op: Deze samenkomst start een uurtje later dan normaal\, 11.00 uur. \n\n\n\nEen mooi moment om elkaar in een relaxte sfeer te ontmoeten\, te zingen\, bidden en Gods Zegen en leiding te vragen voor het volgende seizoen.  \n\n\n\nNeem zelf je stoel of kleedje mee en een lunch\, zodat we na de dienst nog wat na kunnen kletsen en misschien wel een potje voetbal\, volleybal of Kubb kunnen spelen. \n\n\n\nAls het weer het niet toe laat\, is de dienst in “de Bovenzaal”
URL:https://baptistengraafstroom.nl/index.php/event/2610/
LOCATION:Slingelandse Plassen\, Goudriaan\, De Hoogt 7\, Goudriaan\, 2977 LA
CATEGORIES:Diensten
ATTACH;FMTTYPE=image/png:https://baptistengraafstroom.nl/wp-content/uploads/2022/12/Startzondag.png
END:VEVENT
BEGIN:VEVENT
DTSTART;TZID=Europe/Paris:20241201T100000
DTEND;TZID=Europe/Paris:20241201T113000
DTSTAMP:20260422T140152
CREATED:20220905T062702Z
LAST-MODIFIED:20240229T132233Z
UID:984-1733047200-1733052600@baptistengraafstroom.nl
SUMMARY:Samenkomst - 1e advent
DESCRIPTION:Spreker: Bas Stuij\nBijzonderheden: Avondmaalviering \nElke zondagmorgen is er een samenkomst voor de hele gemeente voor jong en oud. Daarin lezen we uit de Bijbel\, er is ruimte voor onderwijs en we zingen en bidden samen. We zingen vaak een kinderlied voordat de kinderen naar hun eigen kindernevendienst kunnen gaan. De samenkomst wordt afgerond met een bakje koffie of thee en ruimte voor ontmoeting.  \nWe komen samen in ons eigen gebouw. Het adres is:Van Beukelaarweg 332971 VL Bleskensgraaf  \nDe dienst begint om 10.00 uur. Meestal eindigen we deze rond 11.30 uur. We beginnen de dienst met elkaar\, inclusief de kinderen. Daarna is er van groep 1 tot en met 7 zondagsschool. Voor de jongste kinderen (tot 4 jaar) is er crèche aanwezig.
URL:https://baptistengraafstroom.nl/index.php/event/samenkomst-7/
LOCATION:‘De Bovenzaal’\, Van Beukelaarweg 33\, Bleskensgraaf\, 2971 VL
CATEGORIES:Diensten
ATTACH;FMTTYPE=image/jpeg:https://baptistengraafstroom.nl/wp-content/uploads/2022/12/Bas-Stuij.jpg
END:VEVENT
END:VCALENDAR