BEGIN:VCALENDAR
VERSION:2.0
PRODID:-//Vrije Baptisten Gemeente Graafstroom - ECPv6.15.20//NONSGML v1.0//EN
CALSCALE:GREGORIAN
METHOD:PUBLISH
X-ORIGINAL-URL:https://baptistengraafstroom.nl
X-WR-CALDESC:Evenementen voor Vrije Baptisten Gemeente Graafstroom
REFRESH-INTERVAL;VALUE=DURATION:PT1H
X-Robots-Tag:noindex
X-PUBLISHED-TTL:PT1H
BEGIN:VTIMEZONE
TZID:Europe/Amsterdam
BEGIN:DAYLIGHT
TZOFFSETFROM:+0100
TZOFFSETTO:+0200
TZNAME:CEST
DTSTART:20220327T010000
END:DAYLIGHT
BEGIN:STANDARD
TZOFFSETFROM:+0200
TZOFFSETTO:+0100
TZNAME:CET
DTSTART:20221030T010000
END:STANDARD
BEGIN:DAYLIGHT
TZOFFSETFROM:+0100
TZOFFSETTO:+0200
TZNAME:CEST
DTSTART:20230326T010000
END:DAYLIGHT
BEGIN:STANDARD
TZOFFSETFROM:+0200
TZOFFSETTO:+0100
TZNAME:CET
DTSTART:20231029T010000
END:STANDARD
BEGIN:DAYLIGHT
TZOFFSETFROM:+0100
TZOFFSETTO:+0200
TZNAME:CEST
DTSTART:20240331T010000
END:DAYLIGHT
BEGIN:STANDARD
TZOFFSETFROM:+0200
TZOFFSETTO:+0100
TZNAME:CET
DTSTART:20241027T010000
END:STANDARD
BEGIN:DAYLIGHT
TZOFFSETFROM:+0100
TZOFFSETTO:+0200
TZNAME:CEST
DTSTART:20250330T010000
END:DAYLIGHT
BEGIN:STANDARD
TZOFFSETFROM:+0200
TZOFFSETTO:+0100
TZNAME:CET
DTSTART:20251026T010000
END:STANDARD
END:VTIMEZONE
BEGIN:VTIMEZONE
TZID:Europe/Paris
BEGIN:DAYLIGHT
TZOFFSETFROM:+0100
TZOFFSETTO:+0200
TZNAME:CEST
DTSTART:20230326T010000
END:DAYLIGHT
BEGIN:STANDARD
TZOFFSETFROM:+0200
TZOFFSETTO:+0100
TZNAME:CET
DTSTART:20231029T010000
END:STANDARD
BEGIN:DAYLIGHT
TZOFFSETFROM:+0100
TZOFFSETTO:+0200
TZNAME:CEST
DTSTART:20240331T010000
END:DAYLIGHT
BEGIN:STANDARD
TZOFFSETFROM:+0200
TZOFFSETTO:+0100
TZNAME:CET
DTSTART:20241027T010000
END:STANDARD
BEGIN:DAYLIGHT
TZOFFSETFROM:+0100
TZOFFSETTO:+0200
TZNAME:CEST
DTSTART:20250330T010000
END:DAYLIGHT
BEGIN:STANDARD
TZOFFSETFROM:+0200
TZOFFSETTO:+0100
TZNAME:CET
DTSTART:20251026T010000
END:STANDARD
END:VTIMEZONE
BEGIN:VEVENT
DTSTART;TZID=Europe/Amsterdam:20231122T200000
DTEND;TZID=Europe/Amsterdam:20231122T220000
DTSTAMP:20260422T011249
CREATED:20221030T131254Z
LAST-MODIFIED:20230706T131024Z
UID:2191-1700683200-1700690400@baptistengraafstroom.nl
SUMMARY:Huiskring
DESCRIPTION:Op woensdag is er om de andere week de mogelijkheid om deel te nemen aan de huiskringen. De gemeente is verdeeld in een aantal vaste groepen van ongeveer 15 mensen. Elke groep komt bij iemand thuis in de huiskamer om elkaar beter te leren kennen\, een onderwerp of stukje uit de bijbel te bespreken en meer betrokken te zijn met elkaars dagelijkse bezigheden. \nWe hopen elkaar te ontmoeten!
URL:https://baptistengraafstroom.nl/index.php/event/huiskring-6/
LOCATION:Thuis
ATTACH;FMTTYPE=image/jpeg:https://baptistengraafstroom.nl/wp-content/uploads/2022/09/Huiskring.jpg
END:VEVENT
BEGIN:VEVENT
DTSTART;TZID=Europe/Amsterdam:20231206T200000
DTEND;TZID=Europe/Amsterdam:20231206T220000
DTSTAMP:20260422T011249
CREATED:20221229T201756Z
LAST-MODIFIED:20230706T131115Z
UID:2698-1701892800-1701900000@baptistengraafstroom.nl
SUMMARY:Huiskring
DESCRIPTION:Op woensdag is er om de andere week de mogelijkheid om deel te nemen aan de huiskringen. De gemeente is verdeeld in een aantal vaste groepen van ongeveer 15 mensen. Elke groep komt bij iemand thuis in de huiskamer om elkaar beter te leren kennen\, een onderwerp of stukje uit de bijbel te bespreken en meer betrokken te zijn met elkaars dagelijkse bezigheden. \nWe hopen elkaar te ontmoeten!
URL:https://baptistengraafstroom.nl/index.php/event/huiskring-7/
LOCATION:Thuis
ATTACH;FMTTYPE=image/jpeg:https://baptistengraafstroom.nl/wp-content/uploads/2022/09/Huiskring.jpg
END:VEVENT
BEGIN:VEVENT
DTSTART;TZID=Europe/Amsterdam:20231209T083000
DTEND;TZID=Europe/Amsterdam:20231209T100000
DTSTAMP:20260422T011249
CREATED:20221229T203537Z
LAST-MODIFIED:20230706T133936Z
UID:2718-1702110600-1702116000@baptistengraafstroom.nl
SUMMARY:Vrouwenontbijt
DESCRIPTION:Elkaar ontmoeten en de onderlinge (geloofs)band versterken\, dat is wat we doen tijdens het vrouwenontbijt. Ook genieten we natuurlijk met elkaar van een lekker broodje en een kop koffie of thee. \nMeld je ook aan via Petra van Zessen.
URL:https://baptistengraafstroom.nl/index.php/event/vrouwenontbijt-4/
LOCATION:Thuis
ATTACH;FMTTYPE=image/jpeg:https://baptistengraafstroom.nl/wp-content/uploads/2022/09/Vrouwenontbijt.jpg
END:VEVENT
BEGIN:VEVENT
DTSTART;TZID=Europe/Amsterdam:20231213T200000
DTEND;TZID=Europe/Amsterdam:20231213T220000
DTSTAMP:20260422T011249
CREATED:20230107T092033Z
LAST-MODIFIED:20231003T092341Z
UID:2756-1702497600-1702504800@baptistengraafstroom.nl
SUMMARY:Samen Groeien - Gods Koninkrijk
DESCRIPTION:Deze woensdag is er weer een Samen Groeien avond\, deze keer in het thema Gods Koninkrijk. We willen nadenken over hoe we Gods Koninkrijk zien en hoe we hier zelf onderdeel van zijn. Hoe kunnen we hier invulling aan geven en belangrijker; hoe wil God dat we dit doen? Mooi om hier samen over in gesprek te gaan! \n\n\n\nWe beginnen om 20:00\, daarvoor is er koffie & thee.Groet\, zegen en tot woensdag! Het Samen Groeien team
URL:https://baptistengraafstroom.nl/index.php/event/samen-groeien-2/
LOCATION:‘De Bovenzaal’\, Van Beukelaarweg 33\, Bleskensgraaf\, 2971 VL
ATTACH;FMTTYPE=image/jpeg:https://baptistengraafstroom.nl/wp-content/uploads/2022/09/SamenGroeien.jpg
END:VEVENT
BEGIN:VEVENT
DTSTART;TZID=Europe/Amsterdam:20231216T080000
DTEND;TZID=Europe/Amsterdam:20231216T093000
DTSTAMP:20260422T011249
CREATED:20221229T203716Z
LAST-MODIFIED:20230706T134249Z
UID:2720-1702713600-1702719000@baptistengraafstroom.nl
SUMMARY:Mannenontbijt
DESCRIPTION:Elkaar ontmoeten en de onderlinge (geloofs)band versterken\, dat is wat we doen tijdens het mannenontbijt. Ook genieten we natuurlijk met elkaar van een lekker broodje en een kop koffie of thee. \nMeld je ook aan via Sjoerd Wiersma.
URL:https://baptistengraafstroom.nl/index.php/event/mannenontbijt-3/
LOCATION:‘De Bovenzaal’\, Van Beukelaarweg 33\, Bleskensgraaf\, 2971 VL
ATTACH;FMTTYPE=image/jpeg:https://baptistengraafstroom.nl/wp-content/uploads/2022/09/Mannenontbijt.jpg
END:VEVENT
BEGIN:VEVENT
DTSTART;TZID=Europe/Amsterdam:20231220T200000
DTEND;TZID=Europe/Amsterdam:20231220T220000
DTSTAMP:20260422T011249
CREATED:20221229T201937Z
LAST-MODIFIED:20230706T131246Z
UID:2701-1703102400-1703109600@baptistengraafstroom.nl
SUMMARY:Huiskring
DESCRIPTION:Op woensdag is er om de andere week de mogelijkheid om deel te nemen aan de huiskringen. De gemeente is verdeeld in een aantal vaste groepen van ongeveer 15 mensen. Elke groep komt bij iemand thuis in de huiskamer om elkaar beter te leren kennen\, een onderwerp of stukje uit de bijbel te bespreken en meer betrokken te zijn met elkaars dagelijkse bezigheden. \nWe hopen elkaar te ontmoeten!
URL:https://baptistengraafstroom.nl/index.php/event/huiskring-8/
LOCATION:Thuis
ATTACH;FMTTYPE=image/jpeg:https://baptistengraafstroom.nl/wp-content/uploads/2022/09/Huiskring.jpg
END:VEVENT
BEGIN:VEVENT
DTSTART;TZID=Europe/Amsterdam:20231224T183000
DTEND;TZID=Europe/Amsterdam:20231224T200000
DTSTAMP:20260422T011249
CREATED:20231003T094055Z
LAST-MODIFIED:20231212T212059Z
UID:986-1703442600-1703448000@baptistengraafstroom.nl
SUMMARY:Kerstparty
DESCRIPTION:Kerstparty\n\n\n\n\n\nZondagavond 24 december is er een voorstelling van Amazing Kids en Kindertheater Knettergek in de Bovenzaal. Iedereen is welkom om deze kerstparty mee te vieren samen met je vriendjes en vriendinnetjes!
URL:https://baptistengraafstroom.nl/index.php/event/kerstdienst/
LOCATION:‘De Bovenzaal’\, Van Beukelaarweg 33\, Bleskensgraaf\, 2971 VL
ATTACH;FMTTYPE=image/png:https://baptistengraafstroom.nl/wp-content/uploads/2023/10/Amazing-Kerstparty@VBGG.png
END:VEVENT
BEGIN:VEVENT
DTSTART;TZID=Europe/Amsterdam:20240114T193000
DTEND;TZID=Europe/Amsterdam:20240114T203000
DTSTAMP:20260422T011249
CREATED:20230223T110724Z
LAST-MODIFIED:20240113T181239Z
UID:2965-1705260600-1705264200@baptistengraafstroom.nl
SUMMARY:Gebedsuur (Zending & Evangelisatie)
DESCRIPTION:Welkom tijdens het gebedsuur! We bidden samen voor de zending & evangelisatie. We hopen elkaar te ontmoeten.
URL:https://baptistengraafstroom.nl/index.php/event/gebedsuur-zending-evangelisatie-2/
LOCATION:‘De Bovenzaal’\, Van Beukelaarweg 33\, Bleskensgraaf\, 2971 VL
ATTACH;FMTTYPE=image/jpeg:https://baptistengraafstroom.nl/wp-content/uploads/2022/09/Gebedsuur-1.jpg
END:VEVENT
BEGIN:VEVENT
DTSTART;TZID=Europe/Amsterdam:20240121T180000
DTEND;TZID=Europe/Amsterdam:20240121T203000
DTSTAMP:20260422T011249
CREATED:20221107T091340Z
LAST-MODIFIED:20240116T112621Z
UID:2335-1705860000-1705869000@baptistengraafstroom.nl
SUMMARY:Alpha Youth
DESCRIPTION:Alpha Youth is voor onze jongeren van ongeveer 12-20 jaar. Tijdens deze toffe avonden ga je met andere jongeren op zoek naar antwoorden. Om 18.15 uur eten we eerst gezellig samen. Daarna luister je naar een kort\, inspirerend verhaal en praat je daar met z’n allen over door. Geen vraag is te gek om te stellen. We sluiten de avond af rond 20.30 uur. Houdt de app in de gaten voor de details! \nAls het leuk lijkt om aan te sluiten of om eens een avond te komen kijken\, neem dan even contact op met de Aplha Youth leiding: \nErika Tukker06-25306198tieners@baptistengraafstroom.nl
URL:https://baptistengraafstroom.nl/index.php/event/alpha-youth/
LOCATION:Thuis
ATTACH;FMTTYPE=image/jpeg:https://baptistengraafstroom.nl/wp-content/uploads/2022/11/AplhaYouth-e1672348588263.jpg
END:VEVENT
BEGIN:VEVENT
DTSTART;TZID=Europe/Amsterdam:20240124T200000
DTEND;TZID=Europe/Amsterdam:20240124T220000
DTSTAMP:20260422T011249
CREATED:20221229T202031Z
LAST-MODIFIED:20240113T182645Z
UID:2703-1706126400-1706133600@baptistengraafstroom.nl
SUMMARY:Huiskring
DESCRIPTION:Op woensdag is er om de andere week de mogelijkheid om deel te nemen aan de huiskringen. De gemeente is verdeeld in een aantal vaste groepen van ongeveer 15 mensen. Elke groep komt bij iemand thuis in de huiskamer om elkaar beter te leren kennen\, een onderwerp of stukje uit de bijbel te bespreken en meer betrokken te zijn met elkaars dagelijkse bezigheden. \nWe hopen elkaar te ontmoeten!
URL:https://baptistengraafstroom.nl/index.php/event/huiskring-9/
LOCATION:Thuis
ATTACH;FMTTYPE=image/jpeg:https://baptistengraafstroom.nl/wp-content/uploads/2022/09/Huiskring.jpg
END:VEVENT
BEGIN:VEVENT
DTSTART;TZID=Europe/Amsterdam:20240127T090000
DTEND;TZID=Europe/Amsterdam:20240127T103000
DTSTAMP:20260422T011249
CREATED:20221229T204858Z
LAST-MODIFIED:20240106T123330Z
UID:2722-1706346000-1706351400@baptistengraafstroom.nl
SUMMARY:Kinderontbijt
DESCRIPTION:“Een vrouwenontbijt.. een mannenontbijt.. en wij dan?!”Speciaal voor onze lieve kids (van 4 tot 12 jaar) weer eens een kinderontbijt op de planning! \n27 Januari is er weer een heus kinderontbijt\, waar al veel kinderen vol verwachting naar uit kijken. Nu is het zo dat dit alleen door kan laten gaan als we wat hulp krijgen van tieners en/of volwassenen. Dus vind je het leuk om je deze ochtend in te zetten\, meld je aan via petra@vanzessen.net! \nHet is voor alle kinderen van 4 tot en met 12 jaar\, dus alleen de Waterkippies niet. We beginnen om 09:00 en rond 10:30 uur zijn we weer klaar om naar huis te gaan.\nWe gaan er weer een feestje van maken!Meld je ook aan via Petra van Zessen.
URL:https://baptistengraafstroom.nl/index.php/event/kinderontbijt/
LOCATION:‘De Bovenzaal’\, Van Beukelaarweg 33\, Bleskensgraaf\, 2971 VL
ATTACH;FMTTYPE=image/jpeg:https://baptistengraafstroom.nl/wp-content/uploads/2022/12/AdobeStock_367511129-e1704543982640.jpeg
END:VEVENT
BEGIN:VEVENT
DTSTART;TZID=Europe/Amsterdam:20240128T180000
DTEND;TZID=Europe/Amsterdam:20240128T213000
DTSTAMP:20260422T011249
CREATED:20221107T111439Z
LAST-MODIFIED:20240116T115750Z
UID:2349-1706464800-1706477400@baptistengraafstroom.nl
SUMMARY:Alpha goes Limitless!
DESCRIPTION:Alpha goes Limitless! \nVanavond gaan we met elkaar weer naar Limitless!Rond 18.15 uur eten we met elkaar waarna we samen richting Alblasserdam vertrekken.Geef je op via de app of onderstaande.. \nErika Tukker06-25306198tieners@baptistengraafstroom.nl
URL:https://baptistengraafstroom.nl/index.php/event/tieners-12-16/
LOCATION:Limitless\, Amperestraat 4\, Alblasserdam\, 2952AA
ATTACH;FMTTYPE=image/png:https://baptistengraafstroom.nl/wp-content/uploads/2022/12/Limitless.png
END:VEVENT
BEGIN:VEVENT
DTSTART;TZID=Europe/Amsterdam:20240128T193000
DTEND;TZID=Europe/Amsterdam:20240128T203000
DTSTAMP:20260422T011249
CREATED:20230223T110432Z
LAST-MODIFIED:20240113T182511Z
UID:2961-1706470200-1706473800@baptistengraafstroom.nl
SUMMARY:Gebedsuur
DESCRIPTION:Welkom tijdens het gebedsuur! We bidden samen voor actualiteiten binnen en buiten onze eigen gemeente. Neem ook zeker persoonlijke gebedspunten mee.We hopen elkaar te ontmoeten.
URL:https://baptistengraafstroom.nl/index.php/event/gebedsuur-5/
LOCATION:‘De Bovenzaal’\, Van Beukelaarweg 33\, Bleskensgraaf\, 2971 VL
ATTACH;FMTTYPE=image/jpeg:https://baptistengraafstroom.nl/wp-content/uploads/2022/09/Gebedsuur-1.jpg
END:VEVENT
BEGIN:VEVENT
DTSTART;TZID=Europe/Amsterdam:20240202T180000
DTEND;TZID=Europe/Amsterdam:20240204T150000
DTSTAMP:20260422T011249
CREATED:20221107T110310Z
LAST-MODIFIED:20240113T182217Z
UID:2347-1706896800-1707058800@baptistengraafstroom.nl
SUMMARY:Tienerkamp - Kamp van de Koning
DESCRIPTION:De tieners gaan dit seizoen weer op kamp van vrijdagavond 2 tot en met zondagmiddag 4 februari. Als het goed is\, hebben de tieners het vast al ergens voorbij zien komen. Het is natuurlijk het leukst voor de groepsvorming als we met zoveel mogelijk gaan! Je kunt je opgeven bij Mark.  \nWe zijn een weekendje weg van vrijdagavond 2 t/m zondagmiddag 4 februari en we rekenen op jullie allemaal! Het belooft een weekend van sport/spel/crea èn inhoud te worden! Deze brief bevat wat meer informatie en dingen die nog even moeten gebeuren…Hoe\, wat\, wanneer en waarWe verzamelen op vrijdagavond om 18.15 uur bij de Bovenzaal. We gaan met auto’s naar het Gerard van Slobbehuis in Bosschehoofd (de Bruggers die op kinderkamp geweest zijn\, weten wel waar dit is ) We hebben daar de beschikking over een heel ruim huis met slaapkamers\, een grote recreatieruimte en een privébos!Het thema is: Kamp van de Koning. En wat dat precies inhoud zie je vanzelf\, maar dat het uitdagend zal zijn en voor iedereen\, is wel duidelijk! \nWat moet je meenemen:• Je Bijbel• Zak chips• 1 fles favo drinken• 1 pot/pak favo zoet broodbeleg• Boskleding (wordt vies) + Schoenen (wordt ook vies\, wel goed op kunnen lopen)• Kleding voor de bonte avond• Sportkleding• Voldoende gewone kleding + ondergoed• Toiletartikelen• Handdoek• Hoeslaken + kussensloop• Slaapzak of dekbed• Pantoffels voor binnen• Veiligheidshesje + lampje \nBijdrageNatuurlijk zijn er ook kosten verbonden aan zo’n kamp. Daarom vragen we als tegemoetkoming voor de onkosten een bijdrage van 30 euro per tiener. Als u de QR code scant dan kunt u het bedrag aanpassen. Als het niet mogelijk is om aan dit bedrag te voldoen\, dan is dat geen enkel probleem. Uw zoon/dochter kan gewoon mee op kamp. \nDaarnaast willen we gemeenteleden vragen om te bidden voor onze tieners en dit weekend. Op verschillende momenten zullen we\, o.a. met sprekers\, nadenken over onze relatie met God. Willen jullie tijdens het weekend ook meebidden\, dan kun je dat aangeven bij Erika. Dan krijg je elke dag een appje met gebedspunten!
URL:https://baptistengraafstroom.nl/index.php/event/tieners/
LOCATION:‘De Bovenzaal’\, Van Beukelaarweg 33\, Bleskensgraaf\, 2971 VL
ATTACH;FMTTYPE=image/png:https://baptistengraafstroom.nl/wp-content/uploads/2022/11/Kamp.png
END:VEVENT
BEGIN:VEVENT
DTSTART;TZID=Europe/Amsterdam:20240206T083000
DTEND;TZID=Europe/Amsterdam:20240206T100000
DTSTAMP:20260422T011249
CREATED:20221229T205219Z
LAST-MODIFIED:20240116T094207Z
UID:2725-1707208200-1707213600@baptistengraafstroom.nl
SUMMARY:Vrouwenontbijt
DESCRIPTION:Elkaar ontmoeten en de onderlinge (geloofs)band versterken\, dat is wat we doen tijdens het vrouwenontbijt. Ook genieten we natuurlijk met elkaar van een lekker broodje en een kop koffie of thee. \nMeld je ook aan via Petra van Zessen.
URL:https://baptistengraafstroom.nl/index.php/event/vrouwenontbijt-5/
LOCATION:‘De Bovenzaal’\, Van Beukelaarweg 33\, Bleskensgraaf\, 2971 VL
ATTACH;FMTTYPE=image/jpeg:https://baptistengraafstroom.nl/wp-content/uploads/2022/09/Vrouwenontbijt.jpg
END:VEVENT
BEGIN:VEVENT
DTSTART;TZID=Europe/Amsterdam:20240207T200000
DTEND;TZID=Europe/Amsterdam:20240207T220000
DTSTAMP:20260422T011249
CREATED:20221229T202456Z
LAST-MODIFIED:20240116T094359Z
UID:2705-1707336000-1707343200@baptistengraafstroom.nl
SUMMARY:Huiskring
DESCRIPTION:Op woensdag is er om de andere week de mogelijkheid om deel te nemen aan de huiskringen. De gemeente is verdeeld in een aantal vaste groepen van ongeveer 15 mensen. Elke groep komt bij iemand thuis in de huiskamer om elkaar beter te leren kennen\, een onderwerp of stukje uit de bijbel te bespreken en meer betrokken te zijn met elkaars dagelijkse bezigheden. \nWe hopen elkaar te ontmoeten!
URL:https://baptistengraafstroom.nl/index.php/event/huiskring-10/
LOCATION:Thuis
CATEGORIES:Huiskringen
ATTACH;FMTTYPE=image/jpeg:https://baptistengraafstroom.nl/wp-content/uploads/2022/09/Huiskring.jpg
END:VEVENT
BEGIN:VEVENT
DTSTART;TZID=Europe/Amsterdam:20240210T080000
DTEND;TZID=Europe/Amsterdam:20240210T093000
DTSTAMP:20260422T011249
CREATED:20221229T205600Z
LAST-MODIFIED:20240116T094523Z
UID:2731-1707552000-1707557400@baptistengraafstroom.nl
SUMMARY:Mannenontbijt
DESCRIPTION:Elkaar ontmoeten en de onderlinge (geloofs)band versterken\, dat is wat we doen tijdens het mannenontbijt. Ook genieten we natuurlijk met elkaar van een lekker broodje en een kop koffie of thee. \nMeld je ook aan via Sjoerd Wiersma of Martin van Zessen.
URL:https://baptistengraafstroom.nl/index.php/event/mannenontbijt-5/
LOCATION:‘De Bovenzaal’\, Van Beukelaarweg 33\, Bleskensgraaf\, 2971 VL
ATTACH;FMTTYPE=image/jpeg:https://baptistengraafstroom.nl/wp-content/uploads/2022/09/Mannenontbijt.jpg
END:VEVENT
BEGIN:VEVENT
DTSTART;TZID=Europe/Amsterdam:20240211T193000
DTEND;TZID=Europe/Amsterdam:20240211T203000
DTSTAMP:20260422T011249
CREATED:20230223T110534Z
LAST-MODIFIED:20240116T094920Z
UID:2963-1707679800-1707683400@baptistengraafstroom.nl
SUMMARY:Gebedsuur
DESCRIPTION:Welkom tijdens het gebedsuur! We bidden samen voor actualiteiten binnen en buiten onze eigen gemeente. Neem ook zeker persoonlijke gebedspunten mee.We hopen elkaar te ontmoeten.
URL:https://baptistengraafstroom.nl/index.php/event/gebedsuur-6/
LOCATION:‘De Bovenzaal’\, Van Beukelaarweg 33\, Bleskensgraaf\, 2971 VL
ATTACH;FMTTYPE=image/jpeg:https://baptistengraafstroom.nl/wp-content/uploads/2022/09/Gebedsuur-1.jpg
END:VEVENT
BEGIN:VEVENT
DTSTART;TZID=Europe/Paris:20240214T200000
DTEND;TZID=Europe/Paris:20240214T220000
DTSTAMP:20260422T011249
CREATED:20220905T061626Z
LAST-MODIFIED:20240213T152301Z
UID:961-1707940800-1707948000@baptistengraafstroom.nl
SUMMARY:Samen Groeien
DESCRIPTION:Deze woensdag is er weer een Samen Groeien avond. Door middel van verschillende thema’s willen we op deze avonden met elkaar nadenken over hoe we verschillende aspecten in ons leven invullen. Deze avond willen we nadenken over de dingen waar wij\, als volgelingen van Jezus\, warm voor lopen. Hoe kunnen wij het licht en zout der aarde zijn\, in praktische vorm? En hoe kunnen we daar samen invulling aan geven? Mooi om hier met elkaar over na te denken\, in gesprek te gaan en voor te bidden. We hopen elkaar weer te ontmoeten! \n\n\n\nWe beginnen om 20:00\, daarvoor is er koffie & thee.Groet\, zegen en tot woensdag! Het Samen Groeien team
URL:https://baptistengraafstroom.nl/index.php/event/samen-groeien/
LOCATION:‘De Bovenzaal’\, Van Beukelaarweg 33\, Bleskensgraaf\, 2971 VL
ATTACH;FMTTYPE=image/jpeg:https://baptistengraafstroom.nl/wp-content/uploads/2022/09/SamenGroeien.jpg
END:VEVENT
BEGIN:VEVENT
DTSTART;TZID=Europe/Amsterdam:20240221T200000
DTEND;TZID=Europe/Amsterdam:20240221T220000
DTSTAMP:20260422T011249
CREATED:20221229T202544Z
LAST-MODIFIED:20240116T120341Z
UID:2707-1708545600-1708552800@baptistengraafstroom.nl
SUMMARY:Huiskring
DESCRIPTION:Op woensdag is er om de andere week de mogelijkheid om deel te nemen aan de huiskringen. De gemeente is verdeeld in een aantal vaste groepen van ongeveer 15 mensen. Elke groep komt bij iemand thuis in de huiskamer om elkaar beter te leren kennen\, een onderwerp of stukje uit de bijbel te bespreken en meer betrokken te zijn met elkaars dagelijkse bezigheden. \nWe hopen elkaar te ontmoeten!
URL:https://baptistengraafstroom.nl/index.php/event/huiskring-11/
LOCATION:Thuis
ATTACH;FMTTYPE=image/jpeg:https://baptistengraafstroom.nl/wp-content/uploads/2022/09/Huiskring.jpg
END:VEVENT
BEGIN:VEVENT
DTSTART;TZID=Europe/Amsterdam:20240225T193000
DTEND;TZID=Europe/Amsterdam:20240225T203000
DTSTAMP:20260422T011249
CREATED:20230223T110836Z
LAST-MODIFIED:20240116T120710Z
UID:2967-1708889400-1708893000@baptistengraafstroom.nl
SUMMARY:Gebedsuur (Zending & Evangelisatie)
DESCRIPTION:Welkom tijdens het gebedsuur! We bidden samen voor de zending & evangelisatie. We hopen elkaar te ontmoeten.
URL:https://baptistengraafstroom.nl/index.php/event/gebedsuur-zending-evangelisatie-3/
LOCATION:‘De Bovenzaal’\, Van Beukelaarweg 33\, Bleskensgraaf\, 2971 VL
ATTACH;FMTTYPE=image/jpeg:https://baptistengraafstroom.nl/wp-content/uploads/2022/09/Gebedsuur-1.jpg
END:VEVENT
BEGIN:VEVENT
DTSTART;TZID=Europe/Amsterdam:20240303T180000
DTEND;TZID=Europe/Amsterdam:20240303T203000
DTSTAMP:20260422T011249
CREATED:20221107T104921Z
LAST-MODIFIED:20240116T113228Z
UID:2345-1709488800-1709497800@baptistengraafstroom.nl
SUMMARY:Alpha Youth
DESCRIPTION:Alpha Youth is voor onze jongeren van ongeveer 12-20 jaar. Tijdens deze toffe avonden ga je met andere jongeren op zoek naar antwoorden. Om 18.15 uur eten we eerst gezellig samen. Daarna luister je naar een kort\, inspirerend verhaal en praat je daar met z’n allen over door. Geen vraag is te gek om te stellen. We sluiten de avond af rond 20.30 uur. Houdt de app in de gaten voor de details! \nAls het leuk lijkt om aan te sluiten of om eens een avond te komen kijken\, neem dan even contact op met de Aplha Youth leiding: \nErika Tukker06-25306198tieners@baptistengraafstroom.nl
URL:https://baptistengraafstroom.nl/index.php/event/alpha-youth-2/
LOCATION:Thuis
ATTACH;FMTTYPE=image/jpeg:https://baptistengraafstroom.nl/wp-content/uploads/2022/11/AplhaYouth-e1672348588263.jpg
END:VEVENT
BEGIN:VEVENT
DTSTART;TZID=Europe/Amsterdam:20240306T200000
DTEND;TZID=Europe/Amsterdam:20240306T220000
DTSTAMP:20260422T011249
CREATED:20221229T202633Z
LAST-MODIFIED:20240116T122229Z
UID:2709-1709755200-1709762400@baptistengraafstroom.nl
SUMMARY:Huiskring
DESCRIPTION:Op woensdag is er om de andere week de mogelijkheid om deel te nemen aan de huiskringen. De gemeente is verdeeld in een aantal vaste groepen van ongeveer 15 mensen. Elke groep komt bij iemand thuis in de huiskamer om elkaar beter te leren kennen\, een onderwerp of stukje uit de bijbel te bespreken en meer betrokken te zijn met elkaars dagelijkse bezigheden. \nWe hopen elkaar te ontmoeten!
URL:https://baptistengraafstroom.nl/index.php/event/huiskring-12/
LOCATION:Thuis
CATEGORIES:Huiskringen
ATTACH;FMTTYPE=image/jpeg:https://baptistengraafstroom.nl/wp-content/uploads/2022/09/Huiskring.jpg
END:VEVENT
BEGIN:VEVENT
DTSTART;TZID=Europe/Amsterdam:20240310T193000
DTEND;TZID=Europe/Amsterdam:20240310T203000
DTSTAMP:20260422T011249
CREATED:20230223T101349Z
LAST-MODIFIED:20240116T135527Z
UID:2937-1710099000-1710102600@baptistengraafstroom.nl
SUMMARY:Gebedsuur
DESCRIPTION:Welkom tijdens het gebedsuur! We bidden samen voor actualiteiten binnen en buiten onze eigen gemeente. Neem ook zeker persoonlijke gebedspunten mee.We hopen elkaar te ontmoeten.
URL:https://baptistengraafstroom.nl/index.php/event/gebedsuur-4/
LOCATION:‘De Bovenzaal’\, Van Beukelaarweg 33\, Bleskensgraaf\, 2971 VL
ATTACH;FMTTYPE=image/jpeg:https://baptistengraafstroom.nl/wp-content/uploads/2022/09/Gebedsuur-1.jpg
END:VEVENT
BEGIN:VEVENT
DTSTART;TZID=Europe/Amsterdam:20240313T200000
DTEND;TZID=Europe/Amsterdam:20240313T213000
DTSTAMP:20260422T011249
CREATED:20230223T100555Z
LAST-MODIFIED:20240229T124428Z
UID:2931-1710360000-1710365400@baptistengraafstroom.nl
SUMMARY:Gemeenteavond
DESCRIPTION:Alle gemeenteleden zijn van harte uitgenodigd op deze gemeente avond waar we verschillende agendapunten zullen behandelen. Waaronder actualiteiten binnen de gemeente\, zending & evangelisatie en financiën. De uitnodiging hiervoor met de relevante bijlagen ontvangt u nog via de mail.
URL:https://baptistengraafstroom.nl/index.php/event/gemeenteavond-4/
LOCATION:‘De Bovenzaal’\, Van Beukelaarweg 33\, Bleskensgraaf\, 2971 VL
ATTACH;FMTTYPE=image/jpeg:https://baptistengraafstroom.nl/wp-content/uploads/2022/09/Gemeenteavond.jpg
END:VEVENT
BEGIN:VEVENT
DTSTART;TZID=Europe/Amsterdam:20240317T180000
DTEND;TZID=Europe/Amsterdam:20240317T203000
DTSTAMP:20260422T011249
CREATED:20221229T210513Z
LAST-MODIFIED:20240116T140403Z
UID:2735-1710698400-1710707400@baptistengraafstroom.nl
SUMMARY:Alpha Youth
DESCRIPTION:Alpha Youth is voor onze jongeren van ongeveer 12-20 jaar. Tijdens deze toffe avonden ga je met andere jongeren op zoek naar antwoorden. Om 18.15 uur eten we eerst gezellig samen. Daarna luister je naar een kort\, inspirerend verhaal en praat je daar met z’n allen over door. Geen vraag is te gek om te stellen. We sluiten de avond af rond 20.30 uur. Houdt de app in de gaten voor de details! \nAls het leuk lijkt om aan te sluiten of om eens een avond te komen kijken\, neem dan even contact op met de Aplha Youth leiding: \nErika Tukker06-25306198tieners@baptistengraafstroom.nl
URL:https://baptistengraafstroom.nl/index.php/event/tieners-12-16-3/
LOCATION:‘De Bovenzaal’\, Van Beukelaarweg 33\, Bleskensgraaf\, 2971 VL
ATTACH;FMTTYPE=image/jpeg:https://baptistengraafstroom.nl/wp-content/uploads/2022/11/AplhaYouth-e1672348588263.jpg
END:VEVENT
BEGIN:VEVENT
DTSTART;TZID=Europe/Amsterdam:20240319T193000
DTEND;TZID=Europe/Amsterdam:20240319T203000
DTSTAMP:20260422T011249
CREATED:20221215T144519Z
LAST-MODIFIED:20240305T151245Z
UID:2608-1710876600-1710880200@baptistengraafstroom.nl
SUMMARY:Doopbespreking
DESCRIPTION:Wil je gedoopt worden!? Zondag 7 april 2024 hebben we weer een doopdienst! Aanmelden kan bij de oudsten van de gemeente. Ben je nog niet zeker of wil je eerst meer weten? Kom vrijblijvend naar de doopbespreking\, dinsdag 19 maart om 19.30 in ‘De Bovenzaal’ (Van Beukelaarweg 33).
URL:https://baptistengraafstroom.nl/index.php/event/samenkomst-38/
LOCATION:‘De Bovenzaal’\, Van Beukelaarweg 33\, Bleskensgraaf\, 2971 VL
ATTACH;FMTTYPE=image/png:https://baptistengraafstroom.nl/wp-content/uploads/2022/12/Doop2.png
END:VEVENT
BEGIN:VEVENT
DTSTART;TZID=Europe/Amsterdam:20240320T200000
DTEND;TZID=Europe/Amsterdam:20240320T220000
DTSTAMP:20260422T011249
CREATED:20221229T202738Z
LAST-MODIFIED:20240116T140552Z
UID:2711-1710964800-1710972000@baptistengraafstroom.nl
SUMMARY:Huiskring
DESCRIPTION:Op woensdag is er om de andere week de mogelijkheid om deel te nemen aan de huiskringen. De gemeente is verdeeld in een aantal vaste groepen van ongeveer 15 mensen. Elke groep komt bij iemand thuis in de huiskamer om elkaar beter te leren kennen\, een onderwerp of stukje uit de bijbel te bespreken en meer betrokken te zijn met elkaars dagelijkse bezigheden. \nWe hopen elkaar te ontmoeten!
URL:https://baptistengraafstroom.nl/index.php/event/huiskring-13/
LOCATION:Thuis
ATTACH;FMTTYPE=image/jpeg:https://baptistengraafstroom.nl/wp-content/uploads/2022/09/Huiskring.jpg
END:VEVENT
BEGIN:VEVENT
DTSTART;TZID=Europe/Amsterdam:20240324T180000
DTEND;TZID=Europe/Amsterdam:20240324T203000
DTSTAMP:20260422T011249
CREATED:20240116T141321Z
LAST-MODIFIED:20240116T141326Z
UID:3770-1711303200-1711312200@baptistengraafstroom.nl
SUMMARY:Alpha goes Limitless!
DESCRIPTION:Alpha goes Limitless! \n\n\n\nVanavond gaan we met elkaar weer naar Limitless!Rond 18.15 uur eten we met elkaar waarna we samen richting Alblasserdam vertrekken.Geef je op via de app of onderstaande.. \n\n\n\nErika Tukker06-25306198tieners@baptistengraafstroom.nl
URL:https://baptistengraafstroom.nl/index.php/event/alpha-goes-limitless/
LOCATION:Limitless\, Amperestraat 4\, Alblasserdam\, 2952AA
ATTACH;FMTTYPE=image/png:https://baptistengraafstroom.nl/wp-content/uploads/2022/12/Limitless.png
END:VEVENT
BEGIN:VEVENT
DTSTART;TZID=Europe/Amsterdam:20240324T193000
DTEND;TZID=Europe/Amsterdam:20240324T203000
DTSTAMP:20260422T011249
CREATED:20230107T092536Z
LAST-MODIFIED:20240116T141106Z
UID:2758-1711308600-1711312200@baptistengraafstroom.nl
SUMMARY:Gebedsuur (Zending & Evangelisatie)
DESCRIPTION:Welkom tijdens het gebedsuur! We bidden samen voor de zending & evangelisatie. We hopen elkaar te ontmoeten.
URL:https://baptistengraafstroom.nl/index.php/event/gebedsuur-2/
LOCATION:‘De Bovenzaal’\, Van Beukelaarweg 33\, Bleskensgraaf\, 2971 VL
ATTACH;FMTTYPE=image/jpeg:https://baptistengraafstroom.nl/wp-content/uploads/2022/09/Gebedsuur-1.jpg
END:VEVENT
END:VCALENDAR