BEGIN:VCALENDAR
VERSION:2.0
PRODID:-//Vrije Baptisten Gemeente Graafstroom - ECPv6.15.20//NONSGML v1.0//EN
CALSCALE:GREGORIAN
METHOD:PUBLISH
X-WR-CALNAME:Vrije Baptisten Gemeente Graafstroom
X-ORIGINAL-URL:https://baptistengraafstroom.nl
X-WR-CALDESC:Evenementen voor Vrije Baptisten Gemeente Graafstroom
REFRESH-INTERVAL;VALUE=DURATION:PT1H
X-Robots-Tag:noindex
X-PUBLISHED-TTL:PT1H
BEGIN:VTIMEZONE
TZID:Europe/Amsterdam
BEGIN:DAYLIGHT
TZOFFSETFROM:+0100
TZOFFSETTO:+0200
TZNAME:CEST
DTSTART:20230326T010000
END:DAYLIGHT
BEGIN:STANDARD
TZOFFSETFROM:+0200
TZOFFSETTO:+0100
TZNAME:CET
DTSTART:20231029T010000
END:STANDARD
BEGIN:DAYLIGHT
TZOFFSETFROM:+0100
TZOFFSETTO:+0200
TZNAME:CEST
DTSTART:20240331T010000
END:DAYLIGHT
BEGIN:STANDARD
TZOFFSETFROM:+0200
TZOFFSETTO:+0100
TZNAME:CET
DTSTART:20241027T010000
END:STANDARD
BEGIN:DAYLIGHT
TZOFFSETFROM:+0100
TZOFFSETTO:+0200
TZNAME:CEST
DTSTART:20250330T010000
END:DAYLIGHT
BEGIN:STANDARD
TZOFFSETFROM:+0200
TZOFFSETTO:+0100
TZNAME:CET
DTSTART:20251026T010000
END:STANDARD
END:VTIMEZONE
BEGIN:VEVENT
DTSTART;TZID=Europe/Amsterdam:20240901T110000
DTEND;TZID=Europe/Amsterdam:20240901T130000
DTSTAMP:20260419T163250
CREATED:20221215T144736Z
LAST-MODIFIED:20240823T194435Z
UID:2610-1725188400-1725195600@baptistengraafstroom.nl
SUMMARY:Startzondag - Openluchtdienst
DESCRIPTION:Spreker: –\n\n\n\nBijzonderheden: Openluchtdienst en AvondmaalvieringLet op: Deze samenkomst start een uurtje later dan normaal\, 11.00 uur. \n\n\n\nEen mooi moment om elkaar in een relaxte sfeer te ontmoeten\, te zingen\, bidden en Gods Zegen en leiding te vragen voor het volgende seizoen.  \n\n\n\nNeem zelf je stoel of kleedje mee en een lunch\, zodat we na de dienst nog wat na kunnen kletsen en misschien wel een potje voetbal\, volleybal of Kubb kunnen spelen. \n\n\n\nAls het weer het niet toe laat\, is de dienst in “de Bovenzaal”
URL:https://baptistengraafstroom.nl/index.php/event/2610/
LOCATION:Slingelandse Plassen\, Goudriaan\, De Hoogt 7\, Goudriaan\, 2977 LA
CATEGORIES:Diensten
ATTACH;FMTTYPE=image/png:https://baptistengraafstroom.nl/wp-content/uploads/2022/12/Startzondag.png
END:VEVENT
END:VCALENDAR